BEGIN:VCALENDAR
VERSION:2.0
PRODID:-//KW Moms Club - ECPv6.15.20//NONSGML v1.0//EN
CALSCALE:GREGORIAN
METHOD:PUBLISH
X-WR-CALNAME:KW Moms Club
X-ORIGINAL-URL:https://kwmomsclub.com
X-WR-CALDESC:Events for KW Moms Club
REFRESH-INTERVAL;VALUE=DURATION:PT1H
X-Robots-Tag:noindex
X-PUBLISHED-TTL:PT1H
BEGIN:VTIMEZONE
TZID:America/Toronto
BEGIN:DAYLIGHT
TZOFFSETFROM:-0500
TZOFFSETTO:-0400
TZNAME:EDT
DTSTART:20250309T070000
END:DAYLIGHT
BEGIN:STANDARD
TZOFFSETFROM:-0400
TZOFFSETTO:-0500
TZNAME:EST
DTSTART:20251102T060000
END:STANDARD
BEGIN:DAYLIGHT
TZOFFSETFROM:-0500
TZOFFSETTO:-0400
TZNAME:EDT
DTSTART:20260308T070000
END:DAYLIGHT
BEGIN:STANDARD
TZOFFSETFROM:-0400
TZOFFSETTO:-0500
TZNAME:EST
DTSTART:20261101T060000
END:STANDARD
BEGIN:DAYLIGHT
TZOFFSETFROM:-0500
TZOFFSETTO:-0400
TZNAME:EDT
DTSTART:20270314T070000
END:DAYLIGHT
BEGIN:STANDARD
TZOFFSETFROM:-0400
TZOFFSETTO:-0500
TZNAME:EST
DTSTART:20271107T060000
END:STANDARD
END:VTIMEZONE
BEGIN:VEVENT
DTSTART;TZID=America/Toronto:20260519T093000
DTEND;TZID=America/Toronto:20260519T103000
DTSTAMP:20260421T062823
CREATED:20260419T201105Z
LAST-MODIFIED:20260419T201106Z
UID:10000847-1779183000-1779186600@kwmomsclub.com
SUMMARY:Kitchener - Baby Basics - Cereal Play - Tues May 19th 9:30am
DESCRIPTION:Join your parent friends and their babies enjoy cereal in a fun way! The Sensory Way! We will use Regular Cherrios in our play activity and add scoops and toys...  \nThis content is for 3 months In Person/Virtual Membership\, 6 months In Person/Virtual Membership\, and 1 Year in Person/Virtual Membership members only.Log In Register
URL:https://kwmomsclub.com/event/kitchener-baby-basics-cereal-play-tues-may-19th-930am/
LOCATION:Doon Pioneer Park Community Centre\, 150 Pioneer Dr\, Kitchener\, Ontario\, N2P 2C2\, Canada
CATEGORIES:Members Only
ATTACH;FMTTYPE=image/jpeg:https://kwmomsclub.com/wp-content/uploads/2024/05/cereal-play.jpg
END:VEVENT
BEGIN:VEVENT
DTSTART;TZID=America/Toronto:20260519T113000
DTEND;TZID=America/Toronto:20260519T123000
DTSTAMP:20260421T062823
CREATED:20260419T201255Z
LAST-MODIFIED:20260419T201256Z
UID:10000848-1779190200-1779193800@kwmomsclub.com
SUMMARY:Kitchener - Baby Basics - Cereal Play - Tues May 19th 11:30am
DESCRIPTION:Join your parent friends and their babies enjoy cereal in a fun way! The Sensory Way! We will use Regular Cherrios in our play activity and add scoops and toys...  \nThis content is for 3 months In Person/Virtual Membership\, 6 months In Person/Virtual Membership\, and 1 Year in Person/Virtual Membership members only.Log In Register
URL:https://kwmomsclub.com/event/kitchener-baby-basics-cereal-play-tues-may-19th-1130am/
LOCATION:Doon Pioneer Park Community Centre\, 150 Pioneer Dr\, Kitchener\, Ontario\, N2P 2C2\, Canada
CATEGORIES:Members Only
ATTACH;FMTTYPE=image/jpeg:https://kwmomsclub.com/wp-content/uploads/2024/05/cereal-play.jpg
END:VEVENT
BEGIN:VEVENT
DTSTART;TZID=America/Toronto:20260520T100000
DTEND;TZID=America/Toronto:20260520T110000
DTSTAMP:20260421T062823
CREATED:20260419T201636Z
LAST-MODIFIED:20260419T201636Z
UID:10000849-1779271200-1779274800@kwmomsclub.com
SUMMARY:Kitchener - Older Baby/Toddler - Cereal Play Toddler Version - Wed May 20th 10am
DESCRIPTION:Join your parent friends and their toddlers enjoy cereal in a fun way! The Sensory Way! We will use regular Cherrios in our play activity and add scoops\, trucks\, containers...  \nThis content is for 3 months In Person/Virtual Membership\, 6 months In Person/Virtual Membership\, and 1 Year in Person/Virtual Membership members only.Log In Register
URL:https://kwmomsclub.com/event/kitchener-older-baby-toddler-cereal-play-toddler-version-wed-may-20th-10am/
LOCATION:Doon Pioneer Park Community Centre\, 150 Pioneer Dr\, Kitchener\, Ontario\, N2P 2C2\, Canada
CATEGORIES:Members Only
ATTACH;FMTTYPE=image/jpeg:https://kwmomsclub.com/wp-content/uploads/2024/07/Toddler-Cereal-Play-scaled.jpg
END:VEVENT
BEGIN:VEVENT
DTSTART;TZID=America/Toronto:20260530T093000
DTEND;TZID=America/Toronto:20260530T110000
DTSTAMP:20260421T062823
CREATED:20260329T161451Z
LAST-MODIFIED:20260329T162204Z
UID:10000844-1780133400-1780138800@kwmomsclub.com
SUMMARY:*WEEKEND* Kitchener  - Baby/Toddler/Kindie - Tie Dye Infant/Kids T Shirt/Onesie Making - Sat May 30th 9:30-11am
DESCRIPTION:Join your parent friends in making a tie Dye Shirt for your Infant or Toddler. You MUST fill out the google form below. Just RSVPing does not get you a...  \nThis content is for 3 months In Person/Virtual Membership\, 6 months In Person/Virtual Membership\, and 1 Year in Person/Virtual Membership members only.Log In Register
URL:https://kwmomsclub.com/event/weekend-kitchener-baby-toddler-kindie-tie-dye-infant-kids-t-shirt-onesie-making-sat-may-30th-930-11am/
LOCATION:Doon Pioneer Park Community Centre\, 150 Pioneer Dr\, Kitchener\, Ontario\, N2P 2C2\, Canada
CATEGORIES:Members Only
ATTACH;FMTTYPE=image/jpeg:https://kwmomsclub.com/wp-content/uploads/2026/03/tye-die.jpg
END:VEVENT
BEGIN:VEVENT
DTSTART;TZID=America/Toronto:20260626T080000
DTEND;TZID=America/Toronto:20260703T170000
DTSTAMP:20260421T062823
CREATED:20260129T190740Z
LAST-MODIFIED:20260129T190741Z
UID:10000817-1782460800-1783098000@kwmomsclub.com
SUMMARY:Summer Break - No Classes June 26th to July 3rd
DESCRIPTION:...  \nThis content is for 3 months In Person/Virtual Membership\, 6 months In Person/Virtual Membership\, and 1 Year in Person/Virtual Membership members only.Log In Register
URL:https://kwmomsclub.com/event/summer-break-no-classes-june-26th-to-july-3rd/
LOCATION:Ontario
CATEGORIES:Members Only
ATTACH;FMTTYPE=image/jpeg:https://kwmomsclub.com/wp-content/uploads/2024/05/canada-day-scaled.jpg
END:VEVENT
END:VCALENDAR