BEGIN:VCALENDAR
VERSION:2.0
PRODID:-//KW Moms Club - ECPv6.15.20//NONSGML v1.0//EN
CALSCALE:GREGORIAN
METHOD:PUBLISH
X-WR-CALNAME:KW Moms Club
X-ORIGINAL-URL:https://kwmomsclub.com
X-WR-CALDESC:Events for KW Moms Club
REFRESH-INTERVAL;VALUE=DURATION:PT1H
X-Robots-Tag:noindex
X-PUBLISHED-TTL:PT1H
BEGIN:VTIMEZONE
TZID:America/Toronto
BEGIN:DAYLIGHT
TZOFFSETFROM:-0500
TZOFFSETTO:-0400
TZNAME:EDT
DTSTART:20250309T070000
END:DAYLIGHT
BEGIN:STANDARD
TZOFFSETFROM:-0400
TZOFFSETTO:-0500
TZNAME:EST
DTSTART:20251102T060000
END:STANDARD
BEGIN:DAYLIGHT
TZOFFSETFROM:-0500
TZOFFSETTO:-0400
TZNAME:EDT
DTSTART:20260308T070000
END:DAYLIGHT
BEGIN:STANDARD
TZOFFSETFROM:-0400
TZOFFSETTO:-0500
TZNAME:EST
DTSTART:20261101T060000
END:STANDARD
BEGIN:DAYLIGHT
TZOFFSETFROM:-0500
TZOFFSETTO:-0400
TZNAME:EDT
DTSTART:20270314T070000
END:DAYLIGHT
BEGIN:STANDARD
TZOFFSETFROM:-0400
TZOFFSETTO:-0500
TZNAME:EST
DTSTART:20271107T060000
END:STANDARD
END:VTIMEZONE
BEGIN:VEVENT
DTSTART;TZID=America/Toronto:20260421T093000
DTEND;TZID=America/Toronto:20260421T103000
DTSTAMP:20260421T052624
CREATED:20260321T192035Z
LAST-MODIFIED:20260325T233915Z
UID:10000835-1776763800-1776767400@kwmomsclub.com
SUMMARY:Kitchener  - Baby Basics - Tie Dye Infant/Kids T Shirt/Onesie Making - Tues April 21st 9:30am
DESCRIPTION:Join your parent friends in making a tie Dye Shirt for your Infant or Toddler. You MUST fill out the google form below. Just RSVPing does not get you a...  \nThis content is for 3 months In Person/Virtual Membership\, 6 months In Person/Virtual Membership\, and 1 Year in Person/Virtual Membership members only.Log In Register
URL:https://kwmomsclub.com/event/kitchener-baby-basics-tye-dye-infant-kids-t-shirt-onesie-making-tues-april-21st-930am/
LOCATION:Doon Pioneer Park Community Centre\, 150 Pioneer Dr\, Kitchener\, Ontario\, N2P 2C2\, Canada
CATEGORIES:Members Only
ATTACH;FMTTYPE=image/jpeg:https://kwmomsclub.com/wp-content/uploads/2026/03/tye-die.jpg
END:VEVENT
BEGIN:VEVENT
DTSTART;TZID=America/Toronto:20260421T113000
DTEND;TZID=America/Toronto:20260421T123000
DTSTAMP:20260421T052624
CREATED:20260321T192255Z
LAST-MODIFIED:20260325T233834Z
UID:10000836-1776771000-1776774600@kwmomsclub.com
SUMMARY:Kitchener  - Baby Basics - Tie Dye Infant/Kids T Shirt/Onesie Making - Tues April 21st 11:30am
DESCRIPTION:Join your parent friends in making a tie Dye Shirt for your Infant or Toddler. You MUST fill out the google form below. Just RSVPing does not get you a...  \nThis content is for 3 months In Person/Virtual Membership\, 6 months In Person/Virtual Membership\, and 1 Year in Person/Virtual Membership members only.Log In Register
URL:https://kwmomsclub.com/event/kitchener-baby-basics-tye-dye-infant-kids-t-shirt-onesie-making-tues-april-21st-1130am/
LOCATION:Doon Pioneer Park Community Centre\, 150 Pioneer Dr\, Kitchener\, Ontario\, N2P 2C2\, Canada
CATEGORIES:Members Only
ATTACH;FMTTYPE=image/jpeg:https://kwmomsclub.com/wp-content/uploads/2026/03/tye-die.jpg
END:VEVENT
END:VCALENDAR