BEGIN:VCALENDAR
VERSION:2.0
PRODID:-//KW Moms Club - ECPv6.15.20//NONSGML v1.0//EN
CALSCALE:GREGORIAN
METHOD:PUBLISH
X-WR-CALNAME:KW Moms Club
X-ORIGINAL-URL:https://kwmomsclub.com
X-WR-CALDESC:Events for KW Moms Club
REFRESH-INTERVAL;VALUE=DURATION:PT1H
X-Robots-Tag:noindex
X-PUBLISHED-TTL:PT1H
BEGIN:VTIMEZONE
TZID:America/Toronto
BEGIN:DAYLIGHT
TZOFFSETFROM:-0500
TZOFFSETTO:-0400
TZNAME:EDT
DTSTART:20250309T070000
END:DAYLIGHT
BEGIN:STANDARD
TZOFFSETFROM:-0400
TZOFFSETTO:-0500
TZNAME:EST
DTSTART:20251102T060000
END:STANDARD
BEGIN:DAYLIGHT
TZOFFSETFROM:-0500
TZOFFSETTO:-0400
TZNAME:EDT
DTSTART:20260308T070000
END:DAYLIGHT
BEGIN:STANDARD
TZOFFSETFROM:-0400
TZOFFSETTO:-0500
TZNAME:EST
DTSTART:20261101T060000
END:STANDARD
BEGIN:DAYLIGHT
TZOFFSETFROM:-0500
TZOFFSETTO:-0400
TZNAME:EDT
DTSTART:20270314T070000
END:DAYLIGHT
BEGIN:STANDARD
TZOFFSETFROM:-0400
TZOFFSETTO:-0500
TZNAME:EST
DTSTART:20271107T060000
END:STANDARD
END:VTIMEZONE
BEGIN:VEVENT
DTSTART;TZID=America/Toronto:20260130T093000
DTEND;TZID=America/Toronto:20260130T103000
DTSTAMP:20260421T054127
CREATED:20251222T215301Z
LAST-MODIFIED:20251222T215302Z
UID:10000787-1769765400-1769769000@kwmomsclub.com
SUMMARY:Cambridge - Guest Speaker - Better Bedtime Sleep Q and A - Fri Jan 30th 9:30am
DESCRIPTION:Join our resident Sleep Consultant Bridget in a sleep talk that will get you and babe sleeping better. Bridget will go through some tips and let you have a chance...  \nThis content is for 3 months In Person/Virtual Membership\, 6 months In Person/Virtual Membership\, and 1 Year in Person/Virtual Membership members only.Log In Register
URL:https://kwmomsclub.com/event/cambridge-guest-speaker-better-bedtime-sleep-q-and-a-fri-jan-30th-930am/
LOCATION:Granite Landing\, 30 Light Dr\, Cambridge\, Ontario\, Canada
CATEGORIES:Members Only
ATTACH;FMTTYPE=image/jpeg:https://kwmomsclub.com/wp-content/uploads/2022/12/baby-sleep-3.jpg
END:VEVENT
END:VCALENDAR